BEGIN:VCALENDAR
VERSION:2.0
PRODID:-//Bidden en Vasten RK - ECPv6.15.20//NONSGML v1.0//EN
CALSCALE:GREGORIAN
METHOD:PUBLISH
X-ORIGINAL-URL:https://biddenenvastenrk.nl
X-WR-CALDESC:Evenementen voor Bidden en Vasten RK
REFRESH-INTERVAL;VALUE=DURATION:PT1H
X-Robots-Tag:noindex
X-PUBLISHED-TTL:PT1H
BEGIN:VTIMEZONE
TZID:UTC
BEGIN:STANDARD
TZOFFSETFROM:+0000
TZOFFSETTO:+0000
TZNAME:UTC
DTSTART:20250101T000000
END:STANDARD
END:VTIMEZONE
BEGIN:VEVENT
DTSTART;TZID=UTC:20260314T160000
DTEND;TZID=UTC:20260321T140000
DTSTAMP:20260422T012018
CREATED:20251231T101734Z
LAST-MODIFIED:20251231T101734Z
UID:23858-1773504000-1774101600@biddenenvastenrk.nl
SUMMARY:Bidden en Vasten RK spring edition 2026
DESCRIPTION:A Prayer and Fasting Conference where we go deeper in preparation for the Solemnity of Easter. Together\, using the Gospel of John\, we will explore what it truly means to remain in the Lord and how His love can fill our lives. \n📲 Register via WhatsApp with Wouter de Brie. \nWhen signing up\, please provide the following information (copy and paste into your WhatsApp message):\n– Name + age\n– Place of residence\n– How is your English?\n– How is your relationship with the Holy Spirit?\n– How vividly do you experience your relationship with Jesus/God?\n– What do you expect from this conference?\n– Is there anything we should take into account? \nPriests and religious may participate for free.
URL:https://biddenenvastenrk.nl/event/bidden-en-vasten-rk-spring-edition-2026/
LOCATION:Poverello Banneux\, route de Theux 85\, Banneux N.D.\, 4141\, Belgium
CATEGORIES:Engels
ATTACH;FMTTYPE=image/png:https://biddenenvastenrk.nl/wp-content/uploads/2025/12/Bidden-en-Vasten-RK-conferentie-voorjaar-2026-1.png
END:VEVENT
END:VCALENDAR